BEGIN:VCALENDAR
VERSION:2.0
PRODID:-//gibkiy gibkiy gibkiy - ECPv3.7//NONSGML v1.0//EN
CALSCALE:GREGORIAN
METHOD:PUBLISH
X-WR-CALNAME:gibkiy gibkiy gibkiy
X-ORIGINAL-URL:http://gibkiy.com
X-WR-CALDESC:Events for gibkiy gibkiy gibkiy
X-WR-TIMEZONE:Asia/Tokyo
BEGIN:VEVENT
DTSTART;VALUE=DATE-TIME:20260425T180000
DTEND;VALUE=DATE-TIME:20260425T201000
DTSTAMP:20260425T020640
CREATED:20260117T200008
LAST-MODIFIED:20260116T210947
UID:1650-1777140000-1777147800@http://gibkiy.com
SUMMARY:gibkiy gibkiy gibkiy 10th ANNIVERSARY avantgarde,barbarian “分泌”
DESCRIPTION:日程：2026年4月25日(土)  会場：心斎橋 CLAPPER  時間：開場 18:00  開演 18:30終演 20:10 (予定）  料金：前売 6\,500円　当日 7\,500円 （ドリンク代別途）  入場特典：未発表音源無料配布  ※大阪限定デザイン  チケット発売日:2026年1月24日(土） 12:00 e+    ■購入ページURL  https://eplus.jp/sf/detail/4467290001-P0030001        &nbsp;
URL:http://gibkiy.com/event/gibkiy-gibkiy-gibkiy-10th-anniversary-avantgardebarbarian-%e5%88%86%e6%b3%8c/
LOCATION:中央区東心斎橋1丁目12-17 ロン・スカール高吉ビルB1F, 大阪市, 大阪府, 542-0083, Japan
END:VEVENT
BEGIN:VEVENT
DTSTART;VALUE=DATE-TIME:20260426T180000
DTEND;VALUE=DATE-TIME:20260426T194000
DTSTAMP:20260425T020640
CREATED:20260117T200058
LAST-MODIFIED:20260123T213843
UID:1651-1777226400-1777232400@http://gibkiy.com
SUMMARY:gibkiy gibkiy gibkiy 10th ANNIVERSARY avantgarde,barbarian “消化”
DESCRIPTION:gibkiy gibkiy gibkiy 10th ANNIVERSARY  avantgarde\,barbarian “消化”    日程：2026年4月26日(日)  会場：名古屋 HeartLand  時間：開場 17:30  開演 18:00終演 19:40(予定）  料金：前売 6\,500円　当日 7\,500円 （ドリンク代別途）  入場特典：未発表音源無料配布  ※名古屋限定デザイン  発売日:2026年1月31日(土） 12:00 e+  ■購入ページURL  http://eplus.jp/gibkiy        &nbsp;
URL:http://gibkiy.com/event/gibkiy-gibkiy-gibkiy-10th-anniversary-avantgardebarbarian-%e6%b6%88%e5%8c%96/
LOCATION:中区新栄2-1-9 雲竜FLEXビル西館B1F, 名古屋市, 愛知県, 460-0007, Japan
END:VEVENT
END:VCALENDAR